BEGIN:VCALENDAR
VERSION:2.0
PRODID:-//ChamberMaster//Event Calendar 2.0//EN
METHOD:PUBLISH
X-PUBLISHED-TTL:P3D
REFRESH-INTERVAL:P3D
CALSCALE:GREGORIAN
BEGIN:VEVENT
DTSTART:20161209T163000Z
DTEND:20161209T180000Z
X-MICROSOFT-CDO-ALLDAYEVENT:FALSE
SUMMARY:Friday Focus - Veterans in the Workplace 12-9-16
DESCRIPTION:FRIDAY FOCUS LUNCHEON - SPEAKER SERIES    \n\nDesigned to focus on specific topics relevant to business or provide updates that are important to the community.\n\n\n\nMEETING DETAILS:\n\nDate: Friday\, December 9\, 2016\n\nTime: 11:30 am - 1:00 pm\n\nPlace: AU Convocation Center\n\nSponsor: The Good Shepherd\n\nSpeaker: Michael Chastain - Workforce Specialist for the Ohio Department of Job and Family Services (ODJFS). The following areas will be covered during the luncheon:\n\n	Workforce Specialist Duties\n	ODJFS Work Force Regions\n	Demographics\n	Utilizing the OhioMeansJobs.com website to connect to Veterans and Employment Programs that support Veteran Hiring Initiatives\n\nCost: $20 pp (meeting and lunch)
X-ALT-DESC;FMTTYPE=text/html:<strong>FRIDAY FOCUS LUNCHEON - SPEAKER SERIES&nbsp\;&nbsp\;&nbsp\;&nbsp\;</strong><br />\nDesigned to focus on specific topics relevant to business or provide updates that are important to the community.<br />\n<br />\n<strong><u>MEETING DETAILS:</u></strong><br />\n<strong>Date:</strong> Friday\, December 9\, 2016<br />\n<strong>Time:</strong> 11:30 am - 1:00 pm<br />\n<strong>Place: </strong>AU Convocation Center<br />\n<strong>Sponsor: </strong>The Good Shepherd<br />\n<strong>Speaker:</strong> Michael Chastain - Workforce Specialist for the Ohio Department of Job and Family Services (ODJFS). The following areas will be covered during the luncheon:\n<ul>\n	<li>Workforce Specialist Duties</li>\n	<li>ODJFS Work Force Regions</li>\n	<li>Demographics</li>\n	<li>Utilizing the OhioMeansJobs.com website to connect to Veterans and Employment Programs that support Veteran Hiring Initiatives</li>\n</ul>\n<strong>Cost:</strong> $20 pp (meeting and lunch)<br />\n&nbsp\;
LOCATION:AU Convocation Center 638 Jefferson St. Ashland OH 44805
UID:e.1651.2517
SEQUENCE:3
DTSTAMP:20260422T084022Z
URL:https://members.ashlandoh.com/events/details/friday-focus-veterans-in-the-workplace-12-9-16-12-09-2016-2517
END:VEVENT

END:VCALENDAR
