BEGIN:VCALENDAR
VERSION:2.0
PRODID:-//ChamberMaster//Event Calendar 2.0//EN
METHOD:PUBLISH
X-PUBLISHED-TTL:P3D
REFRESH-INTERVAL:P3D
CALSCALE:GREGORIAN
BEGIN:VEVENT
DTSTART:20160108T163000Z
DTEND:20160108T180000Z
X-MICROSOFT-CDO-ALLDAYEVENT:FALSE
SUMMARY:Friday Focus - Workplace Diversity 1-8-16
DESCRIPTION:FRIDAY FOCUS LUNCHEON - SPEAKER SERIES    \n\nDesigned to focus on specific topics relevant to business or provide updates that are important to the community.\n\n\n\nTOPIC: Workplace Diversity\n\nSPEAKER: Dr. Carlos Campo\, President - AU\n\nTIME: 11:30 am - 1:00 pm\n\nPLACE: Ashland University Convocation Center\n\nCOST: $20 pp
X-ALT-DESC;FMTTYPE=text/html:<strong>FRIDAY FOCUS LUNCHEON - SPEAKER SERIES&nbsp\;&nbsp\;&nbsp\;&nbsp\;</strong><br />\nDesigned to focus on specific topics relevant to business or provide updates that are important to the community.<br />\n<br />\n<span style="font-family:arial\;"><strong>TOPIC: Workplace Diversity</strong></span><br />\n<strong>SPEAKER:</strong> Dr. Carlos Campo\, President - AU<br />\n<strong>TIME:</strong> 11:30 am - 1:00 pm<br />\n<strong>PLACE:</strong> Ashland University Convocation Center<br />\n<strong>COST: </strong>$20 pp
LOCATION:AU Convocation Center 638 Jefferson St. Ashland OH 44805
UID:e.1651.2511
SEQUENCE:3
DTSTAMP:20260421T035932Z
URL:https://members.ashlandoh.com/events/details/friday-focus-workplace-diversity-1-8-16-01-08-2016-2511
END:VEVENT

END:VCALENDAR
