BEGIN:VCALENDAR
VERSION:2.0
PRODID:-//ChamberMaster//Event Calendar 2.0//EN
METHOD:PUBLISH
X-PUBLISHED-TTL:P3D
REFRESH-INTERVAL:P3D
CALSCALE:GREGORIAN
BEGIN:VEVENT
DTSTART:20161216T160000Z
DTEND:20161216T190000Z
X-MICROSOFT-CDO-ALLDAYEVENT:FALSE
SUMMARY:Georgia Belle Inn - Open House 12-16-16
DESCRIPTION:Georgia Belle Inn is holding a 2 part open house for the Holiday Season.\n\nCome and Visit their wonderful home and talk with the owners.\n\n	When: Friday\, December 16\, 2016\n	Times: 11:00am - 2:00pm and 4:00 - 7:00pm\n	Enjoy great food and conversation\n	Free: Open to the public!
X-ALT-DESC;FMTTYPE=text/html:<span style="font-size:14px\;"><strong>Georgia Belle Inn is holding a 2 part open house for the Holiday Season.</strong></span><br />\nCome and Visit their wonderful home and talk with the owners.\n<ul>\n	<li><strong>When: Friday\, December 16\, 2016</strong></li>\n	<li><strong>Times: 11:00am - 2:00pm and 4:00 - 7:00pm</strong></li>\n	<li><strong>Enjoy great food and conversation</strong></li>\n	<li><strong>Free: Open to the public!</strong></li>\n</ul>\n
LOCATION:Georgia Belle Inn 337 W Walnut St. Ashland OH 44805
UID:e.1651.4194
SEQUENCE:3
DTSTAMP:20260422T083958Z
URL:https://members.ashlandoh.com/events/details/georgia-belle-inn-open-house-12-16-16-4194
END:VEVENT

END:VCALENDAR
