BEGIN:VCALENDAR
VERSION:2.0
PRODID:-//ChamberMaster//Event Calendar 2.0//EN
METHOD:PUBLISH
X-PUBLISHED-TTL:P3D
REFRESH-INTERVAL:P3D
CALSCALE:GREGORIAN
BEGIN:VEVENT
DTSTART:20160709T160000Z
DTEND:20160709T180000Z
X-MICROSOFT-CDO-ALLDAYEVENT:FALSE
SUMMARY:Gerald's Building Tour - You are invited!
DESCRIPTION:Join us for a tour of the Gerald's Building at 141 E. Main St. in Ashland. The Ashland Area Chamber of Commerce will be relocating to this space once it is renovated. Several other community organizations will also be joining us..\n\n\n\nIf you are downtown for the Dream Cruise\, stop by and visit with us. You can take a look at the building and learn about the plans for renovation.\n\n\n\nDate: Saturday\, July 9\, 2016\n\nTime: 12:00 - 2:00 pm (Tours will run every 15 minutes)\n\nPlace: Gerald's Building on Main Street\n\nNote: Look for the sign in the window.\n\n\n\nWe look forward to seeing you there!
X-ALT-DESC;FMTTYPE=text/html:Join us for a tour of the Gerald&#39\;s Building at 141 E. Main St. in Ashland. The Ashland Area Chamber of Commerce will be relocating to this space once it is renovated. Several other community organizations will also be joining us..<br />\n<br />\nIf you are downtown for the Dream Cruise\, stop by and visit with us. You can take a look at the building and learn about the plans for renovation.<br />\n<br />\n<strong>Date:</strong> Saturday\, July 9\, 2016<br />\n<strong>Time: </strong>12:00 - 2:00 pm (Tours will run every 15 minutes)<br />\n<strong>Place:</strong> Gerald&#39\;s Building on Main Street<br />\n<strong>Note: </strong>Look for the sign in the window.<br />\n<br />\nWe look forward to seeing you there!
LOCATION:Gerald's Building 141 E Main St.\, Ashland OH
UID:e.1651.4152
SEQUENCE:3
DTSTAMP:20260420T190630Z
URL:https://members.ashlandoh.com/events/details/gerald-s-building-tour-you-are-invited-07-09-2016-4152
END:VEVENT

END:VCALENDAR
