BEGIN:VCALENDAR
VERSION:2.0
PRODID:-//ChamberMaster//Event Calendar 2.0//EN
METHOD:PUBLISH
X-PUBLISHED-TTL:P3D
REFRESH-INTERVAL:P3D
CALSCALE:GREGORIAN
BEGIN:VEVENT
DTSTART:20150608T120000Z
DTEND:20150608T193000Z
X-MICROSOFT-CDO-ALLDAYEVENT:FALSE
SUMMARY:Golf - Bundles 6-8-15
DESCRIPTION:You have purchased one of the following for the June 8\, 2015 Chamber golf outing! Thanks for your continued support.\n\n\n\nTeam Bundle $100 - includes the following:\n\n\n	Perfect Drives\n	Hole-In-Ones\n	Mulligans x 3\n	Skins Game\n\nIndividual Bundle $50 - includes the following:\n\n\n	Hole-In-Ones\n	Skins Game\n	1 Mulligan\n	6 Raffle Tickets\n\nExtra Raffle Tickets priced as follows:\n\n\n	1 Ticket = $1\n	6 Tickets = $5\n	Arms Length of Tickets = $20
X-ALT-DESC;FMTTYPE=text/html:You have purchased one of the following for the June 8\, 2015 Chamber golf outing! Thanks for your continued support.<br />\n<br />\n<span style="color:#006400\;"><strong>Team Bundle $100 - includes the following:</strong></span>\n\n<ul>\n	<li>Perfect Drives</li>\n	<li>Hole-In-Ones</li>\n	<li>Mulligans x 3</li>\n	<li>Skins Game</li>\n</ul>\n<span style="color:#006400\;"><strong>Individual Bundle $50 - includes the following:</strong></span>\n\n<ul>\n	<li>Hole-In-Ones</li>\n	<li>Skins Game</li>\n	<li>1 Mulligan</li>\n	<li>6 Raffle Tickets</li>\n</ul>\n<span style="color:#006400\;"><strong>Extra Raffle Tickets priced as follows:</strong></span>\n\n<ul>\n	<li>1 Ticket = $1</li>\n	<li>6 Tickets = $5</li>\n	<li>Arms Length of Tickets = $20</li>\n</ul>\n
LOCATION:Ashland Golf Club 1333 Center St. Ashland\, OH 44805
UID:e.1651.2370
SEQUENCE:3
DTSTAMP:20260421T163050Z
URL:https://members.ashlandoh.com/events/details/golf-bundles-6-8-15-06-08-2015-2370
END:VEVENT

END:VCALENDAR
