BEGIN:VCALENDAR
VERSION:2.0
PRODID:-//ChamberMaster//Event Calendar 2.0//EN
METHOD:PUBLISH
X-PUBLISHED-TTL:P3D
REFRESH-INTERVAL:P3D
CALSCALE:GREGORIAN
BEGIN:VEVENT
DTSTART:20141111T213000Z
DTEND:20141111T220000Z
X-MICROSOFT-CDO-ALLDAYEVENT:FALSE
SUMMARY:Hair Emotions - Ribbon Cutting 11-11-14
DESCRIPTION:HAIR EMOTIONS\n\nWe've moved! Join us for our ribbon cutting celebration.\n\n\n\nDate: Tuesday\, November 11\, 2014\n\nTime: 4:30 - 5:00 pm\n\nPlace: 122  W Washington\, St. - Suite E\, Ashland
X-ALT-DESC;FMTTYPE=text/html:<span style="color:#B22222\;"><span style="font-size: 22px\;"><strong>HAIR EMOTIONS</strong></span></span><br />\n<span style="font-family:comic sans ms\;"><span style="font-size: 14px\;">We&#39\;ve moved! Join us for our ribbon cutting celebration.</span></span><br />\n<br />\nDate: Tuesday\, November 11\, 2014<br />\nTime: 4:30 - 5:00 pm<br />\nPlace: 122&nbsp\; W Washington\, St. - Suite E\, Ashland
LOCATION:
UID:e.1651.1619
SEQUENCE:3
DTSTAMP:20260422T060756Z
URL:https://members.ashlandoh.com/events/details/hair-emotions-ribbon-cutting-11-11-14-11-11-2014-1619
END:VEVENT

END:VCALENDAR
