BEGIN:VCALENDAR
VERSION:2.0
PRODID:-//ChamberMaster//Event Calendar 2.0//EN
METHOD:PUBLISH
X-PUBLISHED-TTL:P3D
REFRESH-INTERVAL:P3D
CALSCALE:GREGORIAN
BEGIN:VEVENT
DTSTART:20121206T213000Z
DTEND:20121206T230000Z
X-MICROSOFT-CDO-ALLDAYEVENT:FALSE
SUMMARY:Holiday Happenings - United Way and Abers
DESCRIPTION:Holiday Happenings - A United Way Event!\n\nFeaturing: Aber's Truck Center
X-ALT-DESC;FMTTYPE=text/html:Holiday Happenings - A United Way Event!<br />\nFeaturing: Aber&#39\;s Truck Center 
LOCATION:Mozelle Hall\, Ashland County Fairgrounds
UID:e.1651.591
SEQUENCE:3
DTSTAMP:20260423T183047Z
URL:https://members.ashlandoh.com/events/details/holiday-happenings-united-way-and-abers-12-06-2012-591
END:VEVENT

END:VCALENDAR
