BEGIN:VCALENDAR
VERSION:2.0
PRODID:-//ChamberMaster//Event Calendar 2.0//EN
METHOD:PUBLISH
X-PUBLISHED-TTL:P3D
REFRESH-INTERVAL:P3D
CALSCALE:GREGORIAN
BEGIN:VEVENT
DTSTART:20260109T170000Z
DTEND:20260109T180000Z
X-MICROSOFT-CDO-ALLDAYEVENT:FALSE
SUMMARY:Holy Pepperoni Ribbon Cutting & Open House
DESCRIPTION:The Ashland Area Chamber of Commerce invites the Ashland community to help us celebrate an exciting new addition to town   Holy Pepperoni APIZZA Joint!  \n\n \n\n  Friday\, January 9\n\n  12:00 PM\n\n   Ribbon Cutting at 12:15 PM\n\n  1315 Cleveland Ave\, Ashland\, OH 44805\n\n \n\nJoin us to tour the space\, including their newly renovated dining room\, meet the team behind the pizza\, and take home a pizza to enjoy. Come see what sets Holy Pepperoni APIZZA Joint apart and why they're already making their mark here in Ashland.\n\n \n\nWe hope you'll join us as we officially welcome this new business to our community.
X-ALT-DESC;FMTTYPE=text/html:<p style="margin: 0px 0px 12px\; font-style: normal\; font-variant-caps: normal\; font-width: normal\; font-size: 19px\; line-height: normal\; font-family: &quot\;Times New Roman&quot\;\; font-size-adjust: none\; font-kerning: auto\; font-variant-alternates: normal\; font-variant-ligatures: normal\; font-variant-numeric: normal\; font-variant-east-asian: normal\; font-variant-position: normal\; font-variant-emoji: normal\; font-feature-settings: normal\; font-optical-sizing: auto\; font-variation-settings: normal\; -webkit-text-stroke-width: 0px\; -webkit-text-stroke-color: rgb(0\, 0\, 0)\;"><span style="font-kerning: none\;">The Ashland Area Chamber of Commerce invites the Ashland community to help us celebrate an exciting new addition to town &mdash\; Holy Pepperoni APIZZA Joint! &#127829\;</span></p>\n\n<p style="margin: 0px 0px 12px\; font-style: normal\; font-variant-caps: normal\; font-width: normal\; font-size: 12px\; line-height: normal\; font-family: &quot\;Times New Roman&quot\;\; font-size-adjust: none\; font-kerning: auto\; font-variant-alternates: normal\; font-variant-ligatures: normal\; font-variant-numeric: normal\; font-variant-east-asian: normal\; font-variant-position: normal\; font-variant-emoji: normal\; font-feature-settings: normal\; font-optical-sizing: auto\; font-variation-settings: normal\; -webkit-text-stroke-width: 0px\; -webkit-text-stroke-color: rgb(0\, 0\, 0)\; min-height: 13.8px\;">&nbsp\;</p>\n\n<p style="margin: 0px 0px 12px\; font-style: normal\; font-variant-caps: normal\; font-width: normal\; font-size: 19px\; line-height: normal\; font-family: &quot\;Times New Roman&quot\;\; font-size-adjust: none\; font-kerning: auto\; font-variant-alternates: normal\; font-variant-ligatures: normal\; font-variant-numeric: normal\; font-variant-east-asian: normal\; font-variant-position: normal\; font-variant-emoji: normal\; font-feature-settings: normal\; font-optical-sizing: auto\; font-variation-settings: normal\; -webkit-text-stroke-width: 0px\; -webkit-text-stroke-color: rgb(0\, 0\, 0)\;"><span style="font-kerning: none\;">&#128197\; Friday\, January 9</span></p>\n\n<p style="margin: 0px 0px 12px\; font-style: normal\; font-variant-caps: normal\; font-width: normal\; font-size: 19px\; line-height: normal\; font-family: &quot\;Times New Roman&quot\;\; font-size-adjust: none\; font-kerning: auto\; font-variant-alternates: normal\; font-variant-ligatures: normal\; font-variant-numeric: normal\; font-variant-east-asian: normal\; font-variant-position: normal\; font-variant-emoji: normal\; font-feature-settings: normal\; font-optical-sizing: auto\; font-variation-settings: normal\; -webkit-text-stroke-width: 0px\; -webkit-text-stroke-color: rgb(0\, 0\, 0)\;"><span style="font-kerning: none\;">&#128347\; 12:00 PM</span></p>\n\n<p style="margin: 0px 0px 12px\; font-style: normal\; font-variant-caps: normal\; font-width: normal\; font-size: 19px\; line-height: normal\; font-family: &quot\;Times New Roman&quot\;\; font-size-adjust: none\; font-kerning: auto\; font-variant-alternates: normal\; font-variant-ligatures: normal\; font-variant-numeric: normal\; font-variant-east-asian: normal\; font-variant-position: normal\; font-variant-emoji: normal\; font-feature-settings: normal\; font-optical-sizing: auto\; font-variation-settings: normal\; -webkit-text-stroke-width: 0px\; -webkit-text-stroke-color: rgb(0\, 0\, 0)\;"><span style="font-kerning: none\;">&#9986\;&#65039\; Ribbon Cutting at 12:15 PM</span></p>\n\n<p style="margin: 0px 0px 12px\; font-style: normal\; font-variant-caps: normal\; font-width: normal\; font-size: 19px\; line-height: normal\; font-family: &quot\;Times New Roman&quot\;\; font-size-adjust: none\; font-kerning: auto\; font-variant-alternates: normal\; font-variant-ligatures: normal\; font-variant-numeric: normal\; font-variant-east-asian: normal\; font-variant-position: normal\; font-variant-emoji: normal\; font-feature-settings: normal\; font-optical-sizing: auto\; font-variation-settings: normal\; -webkit-text-stroke-width: 0px\; -webkit-text-stroke-color: rgb(0\, 0\, 0)\;"><span style="font-kerning: none\;">&#128205\; 1315 Cleveland Ave\, Ashland\, OH 44805</span></p>\n\n<p style="margin: 0px 0px 12px\; font-style: normal\; font-variant-caps: normal\; font-width: normal\; font-size: 12px\; line-height: normal\; font-family: &quot\;Times New Roman&quot\;\; font-size-adjust: none\; font-kerning: auto\; font-variant-alternates: normal\; font-variant-ligatures: normal\; font-variant-numeric: normal\; font-variant-east-asian: normal\; font-variant-position: normal\; font-variant-emoji: normal\; font-feature-settings: normal\; font-optical-sizing: auto\; font-variation-settings: normal\; -webkit-text-stroke-width: 0px\; -webkit-text-stroke-color: rgb(0\, 0\, 0)\; min-height: 13.8px\;">&nbsp\;</p>\n\n<p style="margin: 0px 0px 12px\; font-style: normal\; font-variant-caps: normal\; font-width: normal\; font-size: 19px\; line-height: normal\; font-family: &quot\;Times New Roman&quot\;\; font-size-adjust: none\; font-kerning: auto\; font-variant-alternates: normal\; font-variant-ligatures: normal\; font-variant-numeric: normal\; font-variant-east-asian: normal\; font-variant-position: normal\; font-variant-emoji: normal\; font-feature-settings: normal\; font-optical-sizing: auto\; font-variation-settings: normal\; -webkit-text-stroke-width: 0px\; -webkit-text-stroke-color: rgb(0\, 0\, 0)\;"><span style="font-kerning: none\;">Join us to tour the space\, including their newly renovated dining room\, meet the team behind the pizza\, and take home a pizza to enjoy. Come see what sets Holy Pepperoni APIZZA Joint apart and why they&rsquo\;re already making their mark here in Ashland.</span></p>\n\n<p style="margin: 0px 0px 12px\; font-style: normal\; font-variant-caps: normal\; font-width: normal\; font-size: 12px\; line-height: normal\; font-family: &quot\;Times New Roman&quot\;\; font-size-adjust: none\; font-kerning: auto\; font-variant-alternates: normal\; font-variant-ligatures: normal\; font-variant-numeric: normal\; font-variant-east-asian: normal\; font-variant-position: normal\; font-variant-emoji: normal\; font-feature-settings: normal\; font-optical-sizing: auto\; font-variation-settings: normal\; -webkit-text-stroke-width: 0px\; -webkit-text-stroke-color: rgb(0\, 0\, 0)\; min-height: 13.8px\;">&nbsp\;</p>\n\n<p style="margin: 0px 0px 12px\; font-style: normal\; font-variant-caps: normal\; font-width: normal\; font-size: 19px\; line-height: normal\; font-family: &quot\;Times New Roman&quot\;\; font-size-adjust: none\; font-kerning: auto\; font-variant-alternates: normal\; font-variant-ligatures: normal\; font-variant-numeric: normal\; font-variant-east-asian: normal\; font-variant-position: normal\; font-variant-emoji: normal\; font-feature-settings: normal\; font-optical-sizing: auto\; font-variation-settings: normal\; -webkit-text-stroke-width: 0px\; -webkit-text-stroke-color: rgb(0\, 0\, 0)\;"><span style="font-kerning: none\;">We hope you&rsquo\;ll join us as we officially welcome this new business to our community.</span></p>\n
LOCATION:1315 Cleveland Ave. Ashland\, OH 44805
UID:e.1651.6509
SEQUENCE:3
DTSTAMP:20260419T121415Z
URL:https://members.ashlandoh.com/events/details/holy-pepperoni-ribbon-cutting-open-house-6509
END:VEVENT

END:VCALENDAR
