BEGIN:VCALENDAR
VERSION:2.0
PRODID:-//ChamberMaster//Event Calendar 2.0//EN
METHOD:PUBLISH
X-PUBLISHED-TTL:P3D
REFRESH-INTERVAL:P3D
CALSCALE:GREGORIAN
BEGIN:VEVENT
DTSTART;VALUE=DATE:20121113
DTEND;VALUE=DATE:20121114
TRANSP:TRANSPARENT
X-MICROSOFT-CDO-ALLDAYEVENT:TRUE
SUMMARY:Hospice Business Spotlight 11-13-13
DESCRIPTION:Business Spotlight\n\nHospice of North Central Ohio
X-ALT-DESC;FMTTYPE=text/html:Business Spotlight<br />\nHospice of North Central Ohio
LOCATION:1050 Dauch Dr. Ashland\, OH 44805
UID:e.1651.590
SEQUENCE:3
DTSTAMP:20260423T201816Z
URL:https://members.ashlandoh.com/events/details/hospice-business-spotlight-11-13-13-11-13-2012-590
END:VEVENT

END:VCALENDAR
