BEGIN:VCALENDAR
VERSION:2.0
PRODID:-//ChamberMaster//Event Calendar 2.0//EN
METHOD:PUBLISH
X-PUBLISHED-TTL:P3D
REFRESH-INTERVAL:P3D
CALSCALE:GREGORIAN
BEGIN:VEVENT
DTSTART:20170110T123000Z
DTEND:20170110T140000Z
X-MICROSOFT-CDO-ALLDAYEVENT:FALSE
SUMMARY:HR Connection 1-10-17
DESCRIPTION:TOPIC: Alternatives for Performance Appraisals / Evaluations\n\nSpeaker: Brad Hayes - Oliver Hays Corporation
X-ALT-DESC;FMTTYPE=text/html:<strong>TOPIC: Alternatives for Performance Appraisals / Evaluations</strong><br />\n<em>Speaker: Brad Hayes - Oliver Hays Corporation</em>
LOCATION:The Mill Restaurant Buehler's Fresh Foods 1055 Sugar Bush Dr. Ashland\, OH 44805
UID:e.1651.2208
SEQUENCE:3
DTSTAMP:20260420T072544Z
URL:https://members.ashlandoh.com/events/details/hr-connection-1-10-17-01-10-2017-2208
END:VEVENT

END:VCALENDAR
