BEGIN:VCALENDAR
VERSION:2.0
PRODID:-//ChamberMaster//Event Calendar 2.0//EN
METHOD:PUBLISH
X-PUBLISHED-TTL:P3D
REFRESH-INTERVAL:P3D
CALSCALE:GREGORIAN
BEGIN:VEVENT
DTSTART:20160112T123000Z
DTEND:20160112T140000Z
X-MICROSOFT-CDO-ALLDAYEVENT:FALSE
SUMMARY:HR Connection 1-12-16
DESCRIPTION:TOPIC: Creating Smooth and Efficient HR Processes That Ensure Positive Employee Experience\n\nSpeaker: Mary Schalmo - The Good Shepherd
X-ALT-DESC;FMTTYPE=text/html:<strong>TOPIC: Creating Smooth and Efficient HR Processes That Ensure Positive Employee Experience</strong><br />\n<em>Speaker: Mary Schalmo - The Good Shepherd</em>
LOCATION:The Mill Restaurant Buehler's Fresh Foods 1055 Sugar Bush Dr. Ashland\, OH 44805
UID:e.1651.2203
SEQUENCE:3
DTSTAMP:20260421T053528Z
URL:https://members.ashlandoh.com/events/details/hr-connection-1-12-16-01-12-2016-2203
END:VEVENT

END:VCALENDAR
