BEGIN:VCALENDAR
VERSION:2.0
PRODID:-//ChamberMaster//Event Calendar 2.0//EN
METHOD:PUBLISH
X-PUBLISHED-TTL:P3D
REFRESH-INTERVAL:P3D
CALSCALE:GREGORIAN
BEGIN:VEVENT
DTSTART:20150113T123000Z
DTEND:20150113T140000Z
X-MICROSOFT-CDO-ALLDAYEVENT:FALSE
SUMMARY:HR Connection 1-13-15
DESCRIPTION:TOPIC: "Ergonomics\, job analysis\, essential functions"\n\nSpeaker: Samaritan Health and Rehabilitation Center
X-ALT-DESC;FMTTYPE=text/html:<strong>TOPIC: &quot\;Ergonomics\, job analysis\, essential functions&quot\;</strong><br />\n<em>Speaker: Samaritan Health and Rehabilitation Center</em>
LOCATION:The Mill Restaurant Buehler's Fresh Foods 1055 Sugar Bush Dr. Ashland\, OH 44805
UID:e.1651.614
SEQUENCE:3
DTSTAMP:20260422T011535Z
URL:https://members.ashlandoh.com/events/details/hr-connection-1-13-15-01-13-2015-614
END:VEVENT

END:VCALENDAR
