BEGIN:VCALENDAR
VERSION:2.0
PRODID:-//ChamberMaster//Event Calendar 2.0//EN
METHOD:PUBLISH
X-PUBLISHED-TTL:P3D
REFRESH-INTERVAL:P3D
CALSCALE:GREGORIAN
BEGIN:VEVENT
DTSTART:20140114T123000Z
DTEND:20140114T140000Z
X-MICROSOFT-CDO-ALLDAYEVENT:FALSE
SUMMARY:HR Connection 1-14-14
DESCRIPTION:THE WINTERTIME BLUES - \n\n"Build morale and improve the culture\;\n\nand just say no to bullying..."\n\nSpeaker: Debbie Portner\, Cornerstone Counseling of Ashland
X-ALT-DESC;FMTTYPE=text/html:<strong><span style="font-size:14px\;"><span style="color: rgb(0\, 0\, 205)\;">THE WINTERTIME BLUES - </span></span><br />\n&quot\;Build morale and improve the culture\;<br />\nand just say <u>no</u> to bullying...&quot\;</strong><br />\n<em>Speaker: Debbie Portner\, Cornerstone Counseling of Ashland</em>
LOCATION:***NEW LOCATION!*** The Mill Restaurant Buehler's Fresh Foods 1055 Sugarbush Dr.\, Ashland OH 44805
UID:e.1651.560
SEQUENCE:3
DTSTAMP:20260422T223922Z
URL:https://members.ashlandoh.com/events/details/hr-connection-1-14-14-01-14-2014-560
END:VEVENT

END:VCALENDAR
