BEGIN:VCALENDAR
VERSION:2.0
PRODID:-//ChamberMaster//Event Calendar 2.0//EN
METHOD:PUBLISH
X-PUBLISHED-TTL:P3D
REFRESH-INTERVAL:P3D
CALSCALE:GREGORIAN
BEGIN:VEVENT
DTSTART:20130108T123000Z
DTEND:20130108T140000Z
X-MICROSOFT-CDO-ALLDAYEVENT:FALSE
SUMMARY:HR Connection 1-8-2013
DESCRIPTION:HR Connection\n\n"Utilizing Temps and Seasonal Employees - the How\, Who\, When & Costs"\n\nSpecial Speakers: Denise McVey - Snyder's/Lance\, Tonya Gregg - Hedstrom and Cindy Click - Time Staffing
X-ALT-DESC;FMTTYPE=text/html:<strong>HR Connection</strong><br />\n&quot\;Utilizing Temps and Seasonal Employees - the How\, Who\, When &amp\; Costs&quot\;<br />\n<em><strong>Special Speakers:</strong> Denise McVey - Snyder&#39\;s/Lance\, Tonya Gregg - Hedstrom and Cindy Click - Time Staffing</em>
LOCATION:Salvation Army Kroc Center - Community Room
UID:e.1651.240
SEQUENCE:3
DTSTAMP:20260423T182150Z
URL:https://members.ashlandoh.com/events/details/hr-connection-1-8-2013-01-08-2013-240
END:VEVENT

END:VCALENDAR
