BEGIN:VCALENDAR
VERSION:2.0
PRODID:-//ChamberMaster//Event Calendar 2.0//EN
METHOD:PUBLISH
X-PUBLISHED-TTL:P3D
REFRESH-INTERVAL:P3D
CALSCALE:GREGORIAN
BEGIN:VEVENT
DTSTART:20151110T123000Z
DTEND:20151110T140000Z
X-MICROSOFT-CDO-ALLDAYEVENT:FALSE
SUMMARY:HR Connection 11-10-15
DESCRIPTION:Topic: Building Your Strategic Framework\n\nMission\, Vision\, Values and Best Practices\n\nSpeaker: Khushwant Pittenger - Ashland University
X-ALT-DESC;FMTTYPE=text/html:<strong>Topic: Building Your Strategic Framework<br />\n<em>Mission\, Vision\, Values and Best Practices</em></strong><br />\n<em>Speaker: Khushwant Pittenger - Ashland University</em>
LOCATION:The Mill Restaurant Buehler's Fresh Foods 1055 Sugar Bush Dr. Ashland\, OH 44805
UID:e.1651.788
SEQUENCE:3
DTSTAMP:20260421T072620Z
URL:https://members.ashlandoh.com/events/details/hr-connection-11-10-15-11-10-2015-788
END:VEVENT

END:VCALENDAR
