BEGIN:VCALENDAR
VERSION:2.0
PRODID:-//ChamberMaster//Event Calendar 2.0//EN
METHOD:PUBLISH
X-PUBLISHED-TTL:P3D
REFRESH-INTERVAL:P3D
CALSCALE:GREGORIAN
BEGIN:VEVENT
DTSTART:20141111T123000Z
DTEND:20141111T140000Z
X-MICROSOFT-CDO-ALLDAYEVENT:FALSE
SUMMARY:HR Connection 11-11-14
DESCRIPTION:"Communicating with people with disabilities"\n\nSpeaker: Steve Stone - Mental Health & Recovery Board
X-ALT-DESC;FMTTYPE=text/html:<strong>&quot\;Communicating with people with disabilities&quot\;</strong><br />\n<em>Speaker: Steve Stone - Mental Health &amp\; Recovery Board</em>
LOCATION:The Mill Restaurant Buehler's Fresh Foods 1055 Sugar Bush Dr. Ashland\, OH 44805
UID:e.1651.613
SEQUENCE:3
DTSTAMP:20260422T060253Z
URL:https://members.ashlandoh.com/events/details/hr-connection-11-11-14-11-11-2014-613
END:VEVENT

END:VCALENDAR
