BEGIN:VCALENDAR
VERSION:2.0
PRODID:-//ChamberMaster//Event Calendar 2.0//EN
METHOD:PUBLISH
X-PUBLISHED-TTL:P3D
REFRESH-INTERVAL:P3D
CALSCALE:GREGORIAN
BEGIN:VEVENT
DTSTART:20131112T123000Z
DTEND:20131112T140000Z
X-MICROSOFT-CDO-ALLDAYEVENT:FALSE
SUMMARY:HR Connection 11-12-13
DESCRIPTION:"Employee Assessments - Why All the Hype?"\n\nSpeaker: Brad Hays\, SPHR\, Founder/President of the Oliver Hays Corp
X-ALT-DESC;FMTTYPE=text/html:<strong>&quot\;Employee Assessments - Why All the Hype?&quot\;</strong><br />\n<em>Speaker: Brad Hays\, SPHR\, Founder/President of the Oliver Hays Corp</em>
LOCATION:***NEW LOCATION!*** The Mill Restaurant Buehler's Fresh Foods 1055 Sugarbush Dr.\, Ashland OH 44805
UID:e.1651.559
SEQUENCE:3
DTSTAMP:20260423T020036Z
URL:https://members.ashlandoh.com/events/details/hr-connection-11-12-13-11-12-2013-559
END:VEVENT

END:VCALENDAR
