BEGIN:VCALENDAR
VERSION:2.0
PRODID:-//ChamberMaster//Event Calendar 2.0//EN
METHOD:PUBLISH
X-PUBLISHED-TTL:P3D
REFRESH-INTERVAL:P3D
CALSCALE:GREGORIAN
BEGIN:VEVENT
DTSTART:20161108T123000Z
DTEND:20161108T140000Z
X-MICROSOFT-CDO-ALLDAYEVENT:FALSE
SUMMARY:HR Connection 11-8-16
DESCRIPTION:Topic: Technology\, Workstations and Facility - When should they be updated and why?\n\nSpeaker: Rod Hicks\, MT Business Technologies\, Inc.\n\nNOTE: This will be a hands on learning experience at the MT Business Technologies Facility\n\n1150 National Parkway\, Mansfield\, OH 44906\n\n(From US 30 take the Trimble Road Exit South and turn right on National Parkway. MT will be at the end of that road on the right)
X-ALT-DESC;FMTTYPE=text/html:<strong>Topic: Technology\, Workstations and Facility - When should they be updated and why?</strong><br />\n<em>Speaker: Rod Hicks\, MT Business Technologies\, Inc.<br />\n<span style="color:#B22222\;"><strong>NOTE: This will be a hands on learning experience at the MT Business Technologies Facility</strong><br />\n1150 National Parkway\, Mansfield\, OH 44906<br />\n(From US 30 take the Trimble Road Exit South and turn right on National Parkway. MT will be at the end of that road on the right)</span></em>
LOCATION:MT Business Technologies 1150 National Parkway Mansfield\, OH 44906
UID:e.1651.2207
SEQUENCE:3
DTSTAMP:20260420T103513Z
URL:https://members.ashlandoh.com/events/details/hr-connection-11-8-16-11-08-2016-2207
END:VEVENT

END:VCALENDAR
