BEGIN:VCALENDAR
VERSION:2.0
PRODID:-//ChamberMaster//Event Calendar 2.0//EN
METHOD:PUBLISH
X-PUBLISHED-TTL:P3D
REFRESH-INTERVAL:P3D
CALSCALE:GREGORIAN
BEGIN:VEVENT
DTSTART:20150310T113000Z
DTEND:20150310T113000Z
X-MICROSOFT-CDO-ALLDAYEVENT:FALSE
SUMMARY:HR Connection 3-10-15
DESCRIPTION:TOPIC: Tips for Minimizing Workplace Negativity\n\nSpeaker: Debbie Portner - Cornerstone Counseling of Ashland
X-ALT-DESC;FMTTYPE=text/html:<strong><em>TOPIC: Tips for Minimizing Workplace Negativity</em></strong><br />\n<strong>Speaker: Debbie Portner - Cornerstone Counseling of Ashland</strong>
LOCATION:The Mill Restaurant Buehler's Fresh Foods 1055 Sugar Bush Dr. Ashland\, OH 44805
UID:e.1651.752
SEQUENCE:3
DTSTAMP:20260421T231833Z
URL:https://members.ashlandoh.com/events/details/hr-connection-3-10-15-03-10-2015-752
END:VEVENT

END:VCALENDAR
