BEGIN:VCALENDAR
VERSION:2.0
PRODID:-//ChamberMaster//Event Calendar 2.0//EN
METHOD:PUBLISH
X-PUBLISHED-TTL:P3D
REFRESH-INTERVAL:P3D
CALSCALE:GREGORIAN
BEGIN:VEVENT
DTSTART:20140311T113000Z
DTEND:20140311T130000Z
X-MICROSOFT-CDO-ALLDAYEVENT:FALSE
SUMMARY:HR Connection 3-11-14
DESCRIPTION:How do you show your employees that you appreciate them?\n\nParticipants: Come share your best practices and take away some fresh ideas!
X-ALT-DESC;FMTTYPE=text/html:<strong>How do you show your employees that you appreciate them?</strong><br />\n<em>Participants: Come share your best practices and take away some fresh ideas!</em>
LOCATION:***NEW LOCATION!*** The Mill Restaurant Buehler's Fresh Foods 1055 Sugarbush Dr.\, Ashland OH 44805
UID:e.1651.561
SEQUENCE:3
DTSTAMP:20260422T173740Z
URL:https://members.ashlandoh.com/events/details/hr-connection-3-11-14-03-11-2014-561
END:VEVENT

END:VCALENDAR
