BEGIN:VCALENDAR
VERSION:2.0
PRODID:-//ChamberMaster//Event Calendar 2.0//EN
METHOD:PUBLISH
X-PUBLISHED-TTL:P3D
REFRESH-INTERVAL:P3D
CALSCALE:GREGORIAN
BEGIN:VEVENT
DTSTART:20130312T113000Z
DTEND:20130312T130000Z
X-MICROSOFT-CDO-ALLDAYEVENT:FALSE
SUMMARY:HR Connection 3-12-13
DESCRIPTION:Affordable Care Act - Help!\n\nSpeakers: Jim Hess - Whitcomb & Hess CPAs and Financial Advisors and Kevin Sheasby: Spreng-Smith Agency\, Inc.
X-ALT-DESC;FMTTYPE=text/html:<strong>Affordable Care Act - Help!</strong><br />\n<em>Speakers: Jim Hess - Whitcomb &amp\; Hess CPAs and Financial Advisors and Kevin Sheasby: Spreng-Smith Agency\, Inc.</em><br />\n
LOCATION:Kroc Center Community Room 527 E. Liberty St.\, Ashland\, OH 44805
UID:e.1651.556
SEQUENCE:3
DTSTAMP:20260423T132242Z
URL:https://members.ashlandoh.com/events/details/hr-connection-3-12-13-03-12-2013-556
END:VEVENT

END:VCALENDAR
