BEGIN:VCALENDAR
VERSION:2.0
PRODID:-//ChamberMaster//Event Calendar 2.0//EN
METHOD:PUBLISH
X-PUBLISHED-TTL:P3D
REFRESH-INTERVAL:P3D
CALSCALE:GREGORIAN
BEGIN:VEVENT
DTSTART:20160308T123000Z
DTEND:20160308T140000Z
X-MICROSOFT-CDO-ALLDAYEVENT:FALSE
SUMMARY:HR Connection 3-8-16
DESCRIPTION:TOPIC: How do you show your employees that you appreciate them?\n\nParticipants - Come share your best practices and take away some fresh ideas!
X-ALT-DESC;FMTTYPE=text/html:<strong><em>TOPIC: How do you show your employees that you appreciate them?</em></strong><br />\n<strong>Participants - </strong>Come share your best practices and take away some fresh ideas!
LOCATION:The Mill Restaurant Buehler's Fresh Foods 1055 Sugar Bush Dr. Ashland\, OH 44805
UID:e.1651.2204
SEQUENCE:3
DTSTAMP:20260421T002121Z
URL:https://members.ashlandoh.com/events/details/hr-connection-3-8-16-03-08-2016-2204
END:VEVENT

END:VCALENDAR
