BEGIN:VCALENDAR
VERSION:2.0
PRODID:-//ChamberMaster//Event Calendar 2.0//EN
METHOD:PUBLISH
X-PUBLISHED-TTL:P3D
REFRESH-INTERVAL:P3D
CALSCALE:GREGORIAN
BEGIN:VEVENT
DTSTART:20160510T113000Z
DTEND:20160510T130000Z
X-MICROSOFT-CDO-ALLDAYEVENT:FALSE
SUMMARY:HR Connection 5-10-16
DESCRIPTION:Topic: Employee Motivation and Rewards\n\nSpeakers: Tom Brohm\, The SourceOne Group
X-ALT-DESC;FMTTYPE=text/html:<strong>Topic: Employee Motivation and Rewards</strong><br />\n<em>Speakers: Tom Brohm\, The SourceOne Group</em>
LOCATION:The Mill Restaurant Buehler's Fresh Foods 1055 Sugarbush Dr.\, Ashland\, OH 44805
UID:e.1651.2205
SEQUENCE:3
DTSTAMP:20260420T204835Z
URL:https://members.ashlandoh.com/events/details/hr-connection-5-10-16-05-10-2016-2205
END:VEVENT

END:VCALENDAR
