BEGIN:VCALENDAR
VERSION:2.0
PRODID:-//ChamberMaster//Event Calendar 2.0//EN
METHOD:PUBLISH
X-PUBLISHED-TTL:P3D
REFRESH-INTERVAL:P3D
CALSCALE:GREGORIAN
BEGIN:VEVENT
DTSTART:20150512T113000Z
DTEND:20150512T113000Z
X-MICROSOFT-CDO-ALLDAYEVENT:FALSE
SUMMARY:HR Connection 5-12-15
DESCRIPTION:Topic: Effective and Relevant Communications for Best Results\n\nSpeakers: Dan Phillip - Transformation Network
X-ALT-DESC;FMTTYPE=text/html:<strong>Topic: Effective and Relevant Communications for Best Results</strong><br />\n<em>Speakers: Dan Phillip - Transformation Network</em>
LOCATION:The Mill Restaurant Buehler's Fresh Foods 1055 Sugarbush Dr.\, Ashland\, OH 44805
UID:e.1651.771
SEQUENCE:3
DTSTAMP:20260421T181702Z
URL:https://members.ashlandoh.com/events/details/hr-connection-5-12-15-05-12-2015-771
END:VEVENT

END:VCALENDAR
