BEGIN:VCALENDAR
VERSION:2.0
PRODID:-//ChamberMaster//Event Calendar 2.0//EN
METHOD:PUBLISH
X-PUBLISHED-TTL:P3D
REFRESH-INTERVAL:P3D
CALSCALE:GREGORIAN
BEGIN:VEVENT
DTSTART:20140513T113000Z
DTEND:20140513T130000Z
X-MICROSOFT-CDO-ALLDAYEVENT:FALSE
SUMMARY:HR Connection 5-13-14
DESCRIPTION:Employee Training and Development: Resources\, Mandates\, Funding\, Etc.\n\nSpeakers: Angela Neef - ODJFS\, and Tina Snyder - ACWHCC
X-ALT-DESC;FMTTYPE=text/html:<strong>Employee Training and Development: Resources\, Mandates\, Funding\, Etc.</strong><br />\n<em>Speakers: Angela Neef - ODJFS</em>\, <em>and Tina Snyder - ACWHCC</em>
LOCATION:***NEW LOCATION!*** The Mill Restaurant Buehler's Fresh Foods 1055 Sugarbush Dr.\, Ashland OH 44805
UID:e.1651.562
SEQUENCE:3
DTSTAMP:20260422T140636Z
URL:https://members.ashlandoh.com/events/details/hr-connection-5-13-14-05-13-2014-562
END:VEVENT

END:VCALENDAR
