BEGIN:VCALENDAR
VERSION:2.0
PRODID:-//ChamberMaster//Event Calendar 2.0//EN
METHOD:PUBLISH
X-PUBLISHED-TTL:P3D
REFRESH-INTERVAL:P3D
CALSCALE:GREGORIAN
BEGIN:VEVENT
DTSTART:20130514T113000Z
DTEND:20130514T130000Z
X-MICROSOFT-CDO-ALLDAYEVENT:FALSE
SUMMARY:HR Connection 5-14-13
DESCRIPTION:The HR Profession - Certification\, Education and Personal Development\n\nSpeaker: Brad Hays - Oliver Hays Corp.
X-ALT-DESC;FMTTYPE=text/html:<strong>The HR Profession - Certification\, Education and Personal Development</strong><br />\n<em>Speaker: Brad Hays - Oliver Hays Corp.</em>
LOCATION:Kroc Center Community Room 527 E. Liberty St.\, Ashland\, OH 44805
UID:e.1651.557
SEQUENCE:3
DTSTAMP:20260423T102144Z
URL:https://members.ashlandoh.com/events/details/hr-connection-5-14-13-05-14-2013-557
END:VEVENT

END:VCALENDAR
