BEGIN:VCALENDAR
VERSION:2.0
PRODID:-//ChamberMaster//Event Calendar 2.0//EN
METHOD:PUBLISH
X-PUBLISHED-TTL:P3D
REFRESH-INTERVAL:P3D
CALSCALE:GREGORIAN
BEGIN:VEVENT
DTSTART:20160913T113000Z
DTEND:20160914T010000Z
X-MICROSOFT-CDO-ALLDAYEVENT:FALSE
SUMMARY:HR Connection 9-13-16
DESCRIPTION:Topic: Building Successful Work Teams\n\nSpeakers: Ginny Telego - Wager's Way LLC
X-ALT-DESC;FMTTYPE=text/html:<strong>Topic: Building Successful Work Teams</strong><br />\n<em>Speakers: Ginny Telego - Wager&#39\;s Way LLC</em>
LOCATION:The Mill Restaurant Buehler's Fresh Foods 1055 Sugar Bush Dr. Ashland\, OH 44805
UID:e.1651.2206
SEQUENCE:3
DTSTAMP:20260420T135953Z
URL:https://members.ashlandoh.com/events/details/hr-connection-9-13-16-09-13-2016-2206
END:VEVENT

END:VCALENDAR
