BEGIN:VCALENDAR
VERSION:2.0
PRODID:-//ChamberMaster//Event Calendar 2.0//EN
METHOD:PUBLISH
X-PUBLISHED-TTL:P3D
REFRESH-INTERVAL:P3D
CALSCALE:GREGORIAN
BEGIN:VEVENT
DTSTART:20150908T113000Z
DTEND:20150908T113000Z
X-MICROSOFT-CDO-ALLDAYEVENT:FALSE
SUMMARY:HR Connection 9-8-15
DESCRIPTION:Topic: Increasing Productivity While Maintaining Morale\n\nSpeakers: Scott Freehafer - University of Findlay
X-ALT-DESC;FMTTYPE=text/html:<strong>Topic: Increasing Productivity While Maintaining Morale</strong><br />\n<em>Speakers: Scott Freehafer - University of Findlay</em>
LOCATION:The Mill Restaurant Buehler's Fresh Foods 1055 Sugar Bush Dr. Ashland\, OH 44805
UID:e.1651.782
SEQUENCE:3
DTSTAMP:20260421T111510Z
URL:https://members.ashlandoh.com/events/details/hr-connection-9-8-15-09-08-2015-782
END:VEVENT

END:VCALENDAR
