BEGIN:VCALENDAR
VERSION:2.0
PRODID:-//ChamberMaster//Event Calendar 2.0//EN
METHOD:PUBLISH
X-PUBLISHED-TTL:P3D
REFRESH-INTERVAL:P3D
CALSCALE:GREGORIAN
BEGIN:VEVENT
DTSTART:20140909T113000Z
DTEND:20140909T130000Z
X-MICROSOFT-CDO-ALLDAYEVENT:FALSE
SUMMARY:HR Connection 9-9-14
DESCRIPTION:"Performance Evils (oops\, meant to say Evals)" !\n\nSpeaker: Brad Hays - Oliver Hays Corp.
X-ALT-DESC;FMTTYPE=text/html:<strong>&quot\;Performance Evils (oops\, meant to say Evals)&quot\; !</strong><br />\n<em>Speaker: Brad Hays - Oliver Hays Corp.</em>
LOCATION:The Mill Restaurant Buehler's Fresh Foods 1055 Sugar Bush Dr. Ashland\, OH 44805
UID:e.1651.612
SEQUENCE:3
DTSTAMP:20260422T073603Z
URL:https://members.ashlandoh.com/events/details/hr-connection-9-9-14-09-09-2014-612
END:VEVENT

END:VCALENDAR
