BEGIN:VCALENDAR
VERSION:2.0
PRODID:-//ChamberMaster//Event Calendar 2.0//EN
METHOD:PUBLISH
X-PUBLISHED-TTL:P3D
REFRESH-INTERVAL:P3D
CALSCALE:GREGORIAN
BEGIN:VEVENT
DTSTART:20130910T113000Z
DTEND:20130910T133000Z
X-MICROSOFT-CDO-ALLDAYEVENT:FALSE
SUMMARY:HR Connection - Tues\, Sept 10\, 2013
DESCRIPTION:"The Affordable Care Act   What you need to know now!"\n\n\n\nPresenter: Tom Paplaczyk\, an NAHU Certified Healthcare Reform Expert/Advisor of Strategic Business Services.  Tom is a partner with Shawan-Marquis Agency\, who handles our Chamber Plan for Anthem Blue Cross Blue Shield.
X-ALT-DESC;FMTTYPE=text/html:<span style="font-size:16px\;"><strong><span style="font-family: arial narrow\,sans-serif\;">&ldquo\;The Affordable Care Act &ndash\; What you need to know now!&rdquo\;</span></strong></span><br />\n<br />\n<span style="font-size:14px\;"><span style="font-family: arial narrow\,sans-serif\;"><span style="font-family: arial narrow\,sans-serif\;">Presenter: Tom Paplaczyk\, an NAHU Certified Healthcare Reform Expert/Advisor of Strategic Business Services.&nbsp\; Tom is a partner with Shawan-Marquis Agency\, who handles our Chamber Plan for Anthem Blue Cross Blue Shield.</span></span></span>
LOCATION:***NEW LOCATION!*** The Mill Restaurant Buehler's Fresh Foods 1055 Sugarbush Dr.\, Ashland OH 44805
UID:e.1651.558
SEQUENCE:3
DTSTAMP:20260423T035356Z
URL:https://members.ashlandoh.com/events/details/hr-connection-tues-sept-10-2013-09-10-2013-558
END:VEVENT

END:VCALENDAR
