BEGIN:VCALENDAR
VERSION:2.0
PRODID:-//ChamberMaster//Event Calendar 2.0//EN
METHOD:PUBLISH
X-PUBLISHED-TTL:P3D
REFRESH-INTERVAL:P3D
CALSCALE:GREGORIAN
BEGIN:VEVENT
DTSTART:20151028T113000Z
DTEND:20151028T123000Z
X-MICROSOFT-CDO-ALLDAYEVENT:FALSE
SUMMARY:Internship Workshop
DESCRIPTION:ATTENTION Small & Large Business:\n\nAshland University is involved in a special program that provides Internships to local area Businesses - if you'd like to participate in this new program and would like to figure out how to best use an intern for your business\, we have a meeting that is designed for you!  AU has creatively AND SUCCESSFULLY placed several interns throughout the Ashland area and will be looking for future sites to expand this program.  If you are interested in joining this dynamic adventure\, come learn more at this meeting!\n\n\n\nWhy is internship so important / beneficial to you? Check out the links below to see what some of our local businesses have to say about it.\n\n\n	Ashland Golf Club's Experience\n	Eva's Treats Experience \n\n\nHow do you prepare and become a powerful Partner by hosting an intern from Ashland University? You take advantage of our free mini-workshop on Wednesday\, October 28th from 7:30 - 8:30 am at AU Convocation Center.\n\n\n\nHere is the agenda for the workshop:\n\nInternships: Powerful Partnerships\n    1) Benefits of internships\n\n              Employer benefits\n\n              Student benefits\n\n    2) How Successful internships work\n\n              Best practices\n\n              Internships for academic credit\n\n    3) Ashland University Career Services\n\n    4) Career Ready Grant\n\n              What it is\n\n              Goals\n\n              Eligibility\n\n              Guidelines\n\n              Sustainability\n\n    5) Questions from attendees\n\n\n\nFor more information about this internship program CLICK HERE!
X-ALT-DESC;FMTTYPE=text/html:<p><strong><span style="color:#0000CD\;"><span style="font-size: 26px\;"><span style="font-family: times new roman\;">ATTENTION Small &amp\; Large Business:</span></span></span></strong><br />\n<span style="font-size:14px\;"><span style="font-family: times new roman\;">Ashland University is involved in a special program that provides Internships to local area Businesses - if you&#39\;d like to participate in this new program and would like to figure out how to best use an intern for your business\, we have a meeting that is designed for you!&nbsp\; AU has creatively AND SUCCESSFULLY placed several interns throughout the Ashland area and will be looking for future sites to expand this program.&nbsp\; If you are interested in joining this dynamic adventure\, come learn more at this meeting!<br />\n<br />\nWhy is internship so important / beneficial to you? Check out the links below to see what some of our local businesses have to say about it.</span></span></p>\n\n<ul>\n	<li><strong><span style="font-size:14px\;"><span style="font-family: times new roman\;"><a href="https://www.youtube.com/watch?v=d5SalBuaDPs" target="_blank"><span style="color:#0000CD\;">Ashland Golf Club&#39\;s Experience</span></a></span></span></strong></li>\n	<li><strong><span style="font-size:14px\;"><span style="font-family: times new roman\;"><a href="https://www.youtube.com/watch?v=Zx1f1Ha-LjI" target="_blank"><span style="color:#0000CD\;">Eva&#39\;s Treats Experience </span></a></span></span></strong></li>\n</ul>\n\n<p><span style="font-size:14px\;"><span style="font-family: times new roman\;">How do you prepare and become a powerful Partner by hosting an intern from Ashland University? You take advantage of our <span style="background-color:#F0FFFF\;">f</span>ree mini-workshop on <strong>Wednesday\, October 28<sup>th</sup> from 7:30 - 8:30 </strong>am at AU Convocation Center.<br />\n<br />\n<strong><span style="color:#0000CD\;">Here is the agenda for the workshop:</span></strong><br />\n<u>Internships: Powerful Partnerships</u></span></span></p>\n&nbsp\;&nbsp\;&nbsp\; <span style="font-size:14px\;"><span style="font-family: times new roman\;">1) Benefits of internships</span></span><br />\n&nbsp\;&nbsp\;&nbsp\;&nbsp\;&nbsp\;&nbsp\;&nbsp\;&nbsp\;&nbsp\;&nbsp\;&nbsp\; <span style="font-size:14px\;">&diams\;</span> <span style="font-size:14px\;"><span style="font-family: times new roman\;">Employer benefits</span></span><br />\n&nbsp\;&nbsp\;&nbsp\;&nbsp\;&nbsp\;&nbsp\;&nbsp\;&nbsp\;&nbsp\;&nbsp\;&nbsp\; <span style="font-size:14px\;"><span style="font-family: times new roman\;">&diams\; Student benefits</span></span><br />\n&nbsp\;&nbsp\;&nbsp\; <span style="font-size:14px\;"><span style="font-family: times new roman\;">2) How Successful internships work</span></span><br />\n&nbsp\;&nbsp\;&nbsp\;&nbsp\;&nbsp\;&nbsp\;&nbsp\;&nbsp\;&nbsp\;&nbsp\;&nbsp\;&nbsp\;<span style="font-size:14px\;">&diams\;</span> <span style="font-size:14px\;"><span style="font-family: times new roman\;">Best practices</span></span><br />\n&nbsp\;&nbsp\;&nbsp\;&nbsp\;&nbsp\;&nbsp\;&nbsp\;&nbsp\;&nbsp\;&nbsp\;&nbsp\;&nbsp\;<span style="font-size:14px\;">&diams\;</span> <span style="font-size:14px\;"><span style="font-family: times new roman\;">Internships for academic credit</span></span><br />\n&nbsp\;&nbsp\;&nbsp\; 3) <span style="font-size:14px\;"><span style="font-family: times new roman\;">Ashland University Career Services</span></span><br />\n&nbsp\; &nbsp\; 4) <span style="font-size:14px\;"><span style="font-family: times new roman\;">Career Ready Grant</span></span><br />\n&nbsp\;&nbsp\;&nbsp\;&nbsp\;&nbsp\;&nbsp\;&nbsp\;&nbsp\;&nbsp\;&nbsp\;&nbsp\;&nbsp\;<span style="font-size:14px\;"><span style="font-family: times new roman\;">&diams\; What it is</span></span><br />\n&nbsp\;&nbsp\;&nbsp\;&nbsp\;&nbsp\;&nbsp\;&nbsp\;&nbsp\;&nbsp\;&nbsp\;&nbsp\;&nbsp\;<span style="font-size:14px\;">&diams\;</span> <span style="font-size:14px\;"><span style="font-family: times new roman\;">Goals</span></span><br />\n&nbsp\;&nbsp\;&nbsp\;&nbsp\;&nbsp\;&nbsp\;&nbsp\;&nbsp\;&nbsp\;&nbsp\;&nbsp\;&nbsp\;<span style="font-size:14px\;"><span style="font-family: times new roman\;">&diams\; Eligibility</span></span><br />\n&nbsp\;&nbsp\;&nbsp\;&nbsp\;&nbsp\;&nbsp\;&nbsp\;&nbsp\;&nbsp\;&nbsp\;&nbsp\;&nbsp\;<span style="font-size:14px\;"><span style="font-family: times new roman\;">&diams\; Guidelines</span></span><br />\n&nbsp\;&nbsp\;&nbsp\;&nbsp\;&nbsp\;&nbsp\;&nbsp\;&nbsp\;&nbsp\;&nbsp\;&nbsp\;&nbsp\;<span style="font-size:14px\;">&diams\;</span> <span style="font-size:14px\;"><span style="font-family: times new roman\;">Sustainability</span></span><br />\n&nbsp\;&nbsp\;&nbsp\; 5) <span style="font-size:14px\;"><span style="font-family: times new roman\;">Questions from attendees<br />\n<br />\nFor more information about this internship program <strong><a href="http://cloud.chambermaster.com/userfiles/UserFiles/chambers/1651/File/Events/AU_Intern_Program/EmployersBrochure_Oct.2013.pdf" target="_blank"><span style="color:#0000CD\;">CLICK HERE!</span></a></strong> </span></span>
LOCATION:AU Convocation Center Heritage Room 638 Jefferson St. Ashland OH 44805
UID:e.1651.2500
SEQUENCE:3
DTSTAMP:20260423T083952Z
URL:https://members.ashlandoh.com/events/details/internship-workshop-10-28-2015-2500
END:VEVENT

END:VCALENDAR
