BEGIN:VCALENDAR
VERSION:2.0
PRODID:-//ChamberMaster//Event Calendar 2.0//EN
METHOD:PUBLISH
X-PUBLISHED-TTL:P3D
REFRESH-INTERVAL:P3D
CALSCALE:GREGORIAN
BEGIN:VEVENT
DTSTART:20130821T213000Z
DTEND:20130821T223000Z
X-MICROSOFT-CDO-ALLDAYEVENT:FALSE
SUMMARY:Italy Trip #2 Planning & Info Mtg
DESCRIPTION:Our Inaugural Chamber Trip to Italy was a huge success! The group enjoyed themselves so much they want to go back!\n\n\n\nThis Informational meeting will be reviewing all the locations and venues available through Collette Vacations. The group will be deciding where & when (2014 or 2015)they want to go next! If you are interested in going\, this meeting is for you!
X-ALT-DESC;FMTTYPE=text/html:Our Inaugural Chamber Trip to Italy was a huge success! The group enjoyed themselves so much they want to go back!<br />\n<br />\nThis Informational meeting will be reviewing all the locations and venues available through Collette Vacations. The group will be deciding where &amp\; when (2014 or 2015)they want to go next! If you are interested in going\, this meeting is for you!&nbsp\;&nbsp\;&nbsp\;&nbsp\;
LOCATION:Chamber Office (unless the crowd grows\, then we will let you know the bigger location!)
UID:e.1651.884
SEQUENCE:3
DTSTAMP:20260423T064812Z
URL:https://members.ashlandoh.com/events/details/italy-trip-2-planning-info-mtg-08-21-2013-884
END:VEVENT

END:VCALENDAR
