BEGIN:VCALENDAR
VERSION:2.0
PRODID:-//ChamberMaster//Event Calendar 2.0//EN
METHOD:PUBLISH
X-PUBLISHED-TTL:P3D
REFRESH-INTERVAL:P3D
CALSCALE:GREGORIAN
BEGIN:VEVENT
DTSTART:20130227T223000Z
DTEND:20130228T000000Z
X-MICROSOFT-CDO-ALLDAYEVENT:FALSE
SUMMARY:Italy Trip Participant Meeting
DESCRIPTION:
X-ALT-DESC;FMTTYPE=text/html:
LOCATION:
UID:e.1651.595
SEQUENCE:3
DTSTAMP:20260423T164513Z
URL:https://members.ashlandoh.com/events/details/italy-trip-participant-meeting-02-27-2013-595
END:VEVENT

END:VCALENDAR
