BEGIN:VCALENDAR
VERSION:2.0
PRODID:-//ChamberMaster//Event Calendar 2.0//EN
METHOD:PUBLISH
X-PUBLISHED-TTL:P3D
REFRESH-INTERVAL:P3D
CALSCALE:GREGORIAN
BEGIN:VEVENT
DTSTART:20160419T210000Z
DTEND:20160419T230000Z
X-MICROSOFT-CDO-ALLDAYEVENT:FALSE
SUMMARY:Kid's Kountry Cash Mob
DESCRIPTION:Kid's Kountry & More\, LLC/ Red Wing Shoes Cash Mob\n\n\n\nCa$h Mobs are special "flash mobs"\, but\n\ninstead of singing and dancing\, we spend\n\nmoney (minimum of $10 per person) at local\n\nbusinesses that make ALL of Ashland County\n\nspecial.\n\n\n	 We help businesses grow\n	 We make people happy\n	 We buy cool stuff\n	 AND we have a great time!\n\n Want to be a mobster?\n\n\n	 You must spend at least $10\, although you are welcome to spend more.\n	 Show up to buy during the cash mob "official" hours.\n	 Bring a friend. Or two!\n	Pick your Mobster Name\, sign the poster\, and shop away  or else \n\nFollow Buy In Ashland on Facebook to stay up to date.  See you there!
X-ALT-DESC;FMTTYPE=text/html:<a href="https://www.facebook.com/Kids-Kountry-More-LLC-Red-Wing-Shoes-860044877341978/"><span style="color:#003399\;"><span style="font-size: 14px\;"><strong><span style="font-family: verdana\;">Kid&#39\;s </span></strong></span></span></a><span style="font-family:verdana\;"><a href="https://www.facebook.com/Kids-Kountry-More-LLC-Red-Wing-Shoes-860044877341978/"><span style="color:#003399\;"><span style="font-size: 14px\;"><strong>Kountry</strong></span></span></a></span><span style="font-size:14px\;"><strong><span style="font-family: verdana\;"><a href="https://www.facebook.com/Kids-Kountry-More-LLC-Red-Wing-Shoes-860044877341978/"><span style="color:#003399\;"> &amp\; More\, LLC/ Red Wing Shoes</span></a><span style="color:#003399\;"> Cash Mob</span></span></strong></span><br />\n<br />\n<span style="color:#003399\;">Ca$h Mobs are special &ldquo\;flash mobs&rdquo\;\, but<br />\ninstead of singing and dancing\, we spend<br />\nmoney (minimum of $10 per person) at local<br />\nbusinesses that make ALL of Ashland County<br />\nspecial.</span>\n\n<ul>\n	<li><span style="color:#003399\;">&nbsp\;We help businesses grow</span></li>\n	<li><span style="color:#003399\;">&nbsp\;We make people happy</span></li>\n	<li><span style="color:#003399\;">&nbsp\;We buy cool stuff</span></li>\n	<li><span style="color:#003399\;">&nbsp\;AND we have a great time!</span></li>\n</ul>\n<span style="color:#003399\;"> <span style="font-family: verdana\;"><strong><span style="font-size: 12px\;">Want to be a mobster?</span></strong></span></span>\n\n<ul>\n	<li><span style="color:#003399\;">&nbsp\;You must spend at least $10\, although you are welcome to spend more.</span></li>\n	<li><span style="color:#003399\;">&nbsp\;Show up to buy during the cash mob &ldquo\;official&rdquo\; hours.</span></li>\n	<li><span style="color:#003399\;">&nbsp\;Bring a friend. Or two!</span></li>\n	<li><span style="color:#003399\;">Pick your <a href="https://chambermaster.blob.core.windows.net/userfiles/UserFiles/chambers/1651/File/Buy_In_Ashland/Cashmobnamechart.pdf">Mobster Name</a>\, sign the poster\, and shop away &lt\;or else&gt\;</span></li>\n</ul>\nFollow<a href="https://www.facebook.com/events/1746462062255775/"> Buy In Ashland </a>on Facebook to stay up to date.&nbsp\; See you there!<br />\n&nbsp\;
LOCATION:Downtown Ashland at- 33 West Main Street Ashland\, Ohio 44805
UID:e.1651.4103
SEQUENCE:3
DTSTAMP:20260420T223607Z
URL:https://members.ashlandoh.com/events/details/kid-s-kountry-cash-mob-04-19-2016-4103
END:VEVENT

END:VCALENDAR
