BEGIN:VCALENDAR
VERSION:2.0
PRODID:-//ChamberMaster//Event Calendar 2.0//EN
METHOD:PUBLISH
X-PUBLISHED-TTL:P3D
REFRESH-INTERVAL:P3D
CALSCALE:GREGORIAN
BEGIN:VEVENT
DTSTART:20160609T170000Z
DTEND:20160609T173000Z
X-MICROSOFT-CDO-ALLDAYEVENT:FALSE
SUMMARY:Kid's Kountry & More - Ribbon Cutting NEW Store
DESCRIPTION:Kid's Kountry & More is opening another store!\n\nLocated inside Buehler's in Ashland\n\nCome and celebrate this important event.\n\nDate: Thursday\, June 9\, 2016\n\nTime: 1:00 -1:30 pm\n\nRibbon Cutting: 1:15 pm\n\nPlace: Buehler's\, Ashland
X-ALT-DESC;FMTTYPE=text/html:<strong><span style="color:#000080\;">Kid&#39\;s Kountry &amp\; More</span> is opening another store!<br />\n<em>Located inside Buehler&#39\;s in Ashland</em></strong><br />\nCome and celebrate this important event.<br />\nDate: Thursday\, June 9\, 2016<br />\nTime: 1:00 -1:30 pm<br />\nRibbon Cutting: 1:15 pm<br />\nPlace: Buehler&#39\;s\, Ashland<br />\n&nbsp\;
LOCATION:Buehler's Fresh Foods 1055 Sugarbush Dr. Ashland\, OH 44805
UID:e.1651.4132
SEQUENCE:3
DTSTAMP:20260420T191717Z
URL:https://members.ashlandoh.com/events/details/kid-s-kountry-more-ribbon-cutting-new-store-06-09-2016-4132
END:VEVENT

END:VCALENDAR
