BEGIN:VCALENDAR
VERSION:2.0
PRODID:-//ChamberMaster//Event Calendar 2.0//EN
METHOD:PUBLISH
X-PUBLISHED-TTL:P3D
REFRESH-INTERVAL:P3D
CALSCALE:GREGORIAN
BEGIN:VEVENT
DTSTART:20151027T203000Z
DTEND:20151027T220000Z
X-MICROSOFT-CDO-ALLDAYEVENT:FALSE
SUMMARY:Kingston of Ashland
DESCRIPTION:Come and meet our new Respiratory Therapist - \n\nand take a tour of our outstanding facility.
X-ALT-DESC;FMTTYPE=text/html:<strong>Come and meet our new Respiratory Therapist -&nbsp\;<br />\nand take a tour of our outstanding facility. &nbsp\; </strong>
LOCATION:Kingston of Ashland 20 Amberwood Pkwy Ashland\, OH 44805
UID:e.1651.2417
SEQUENCE:3
DTSTAMP:20260421T093418Z
URL:https://members.ashlandoh.com/events/details/kingston-of-ashland-10-27-2015-2417
END:VEVENT

END:VCALENDAR
