BEGIN:VCALENDAR
VERSION:2.0
PRODID:-//ChamberMaster//Event Calendar 2.0//EN
METHOD:PUBLISH
X-PUBLISHED-TTL:P3D
REFRESH-INTERVAL:P3D
CALSCALE:GREGORIAN
BEGIN:VEVENT
DTSTART:20130131T210000Z
DTEND:20130201T000000Z
X-MICROSOFT-CDO-ALLDAYEVENT:FALSE
SUMMARY:Kingston of Ashland Ribbon Cutting and Business Spotlight
DESCRIPTION:You're Invited!\n\n	Join the Chamber as we congratulate and help celebrate the opening of Kingston of Ashland's Building Expansion! We love when our members grow their business!\n\n	Ribbon Cutting Ceremonies will be held at 4:15 pm. Please plan to arrive 15 minutes early. Business spotlight/Facility tours will begin immediately following the Ribbon Cutting. This is a free event\, however we ask that you register so they will have an idea on how much food to prepare. Remember your business cards - this will be a great networking opportunity! Looking forward to having you join us!
X-ALT-DESC;FMTTYPE=text/html:<p>\n	You&#39\;re Invited!</p>\n<p>\n	Join the Chamber as we congratulate and help celebrate the opening of Kingston of Ashland&#39\;s Building Expansion! We love when our members grow their business!</p>\n<p>\n	Ribbon Cutting Ceremonies will be held at 4:15 pm. Please plan to arrive 15 minutes early. Business spotlight/Facility tours will begin immediately following the Ribbon Cutting. This is a free event\, however we ask that you register so they will have an idea on how much food to prepare. Remember your business cards - this will be a great networking opportunity! Looking forward to having you join us!</p>\n
LOCATION:20 Amberwood Parkway Ashland\, OH 44805
UID:e.1651.575
SEQUENCE:3
DTSTAMP:20260423T184115Z
URL:https://members.ashlandoh.com/events/details/kingston-of-ashland-ribbon-cutting-and-business-spotlight-01-31-2013-575
END:VEVENT

END:VCALENDAR
