BEGIN:VCALENDAR
VERSION:2.0
PRODID:-//ChamberMaster//Event Calendar 2.0//EN
METHOD:PUBLISH
X-PUBLISHED-TTL:P3D
REFRESH-INTERVAL:P3D
CALSCALE:GREGORIAN
BEGIN:VEVENT
DTSTART;VALUE=DATE:20130911
DTEND;VALUE=DATE:20130912
TRANSP:TRANSPARENT
X-MICROSOFT-CDO-ALLDAYEVENT:TRUE
SUMMARY:LA 2013-14 Class 9/11/13
DESCRIPTION:Greetings\, Class of 2014 Participants and Sponsors!\n\n	We are looking forward to this year's class with great anticipation.\n\n	From September 2013 through June 2014\, we will take part in a one day retreat\, eight monthly workday sessions\, a bus tour of Ashland County and a graduation program.\n\n\nThe Leadership Ashland Class is designed to:\n\n	\n		Identify existing and emerging community leaders\n	\n		Acquaint participants with community needs and issues\n	\n		Broaden participant's understanding of the political\, economic\, business\, and social fabric of Ashland County.\n	\n		Prepare participants to take a more active leadership role within the community and within their sponsoring organizations.\n\n\n	The Leadership Ashland experience offers the participant an opportunity to develop the knowledge and skills necessary to assume a vital role in our community. Participants widen their circle of friendships and become acquainted with numerous community leaders. Sponsoring organizations are rewarded with an involved and motivated employee. The biggest winner? The Ashland County community!\n\n\nThanks for making the choice to become involved in this outstanding Leadership Program.\n\nIf you have questions about the program\, schedule or fees\, please contact us at:\n\nLeadership Ashland\n\nc/o Ashland Area Chamber of Commerce\n\n211 Claremont Ave.\, Ashland\, OH 44805\n\n419-281-4584 ext 105\n\nor chamber@ashlandoh. com
X-ALT-DESC;FMTTYPE=text/html:<span style="font-size:14px\;"><span style="color: rgb(0\, 0\, 205)\;"><strong>Greetings\, Class of 2014 Participants and Sponsors!</strong></span></span>\n<div style="text-align: justify\;">\n	<em>We are looking forward to this year&#39\;s class with great anticipation.<br />\n	From September 2013 through June 2014\, we will take part in a one day retreat\, eight monthly workday sessions\, a bus tour of Ashland County and a graduation program.</em></div>\n<br />\n<u><strong>The Leadership Ashland Class is designed to:</strong></u>\n<ul>\n	<li>\n		Identify existing and emerging community leaders</li>\n	<li>\n		Acquaint participants with community needs and issues</li>\n	<li>\n		Broaden participant&#39\;s understanding of the political\, economic\, business\, and social fabric of Ashland County.</li>\n	<li>\n		Prepare participants to take a more active leadership role within the community and within their sponsoring organizations.</li>\n</ul>\n<div style="text-align: justify\;">\n	<em>The Leadership Ashland experience offers the participant an opportunity to develop the knowledge and skills necessary to assume a vital role in our community. Participants widen their circle of friendships and become acquainted with numerous community leaders. Sponsoring organizations are rewarded with an involved and motivated employee. The biggest winner? The Ashland County community!</em></div>\n<br />\n<strong>Thanks for making the choice to become involved in this outstanding Leadership Program.</strong><br />\nIf you have questions about the program\, schedule or fees\, please contact us at:<br />\n<span style="color:#0000cd\;"><span style="font-size: 14px\;"><strong>Leadership Ashland</strong></span></span><br />\nc/o Ashland Area Chamber of Commerce<br />\n211 Claremont Ave.\, Ashland\, OH 44805<br />\n419-281-4584 ext 105<br />\nor <a href="mailto:chamber@ashlandoh.com?subject=Leadership%20Ashland%20Class%20of%202014&amp\;body=I%20have%20a%20question%20about%3A" target="_blank">chamber@ashlandoh. com</a> 
LOCATION:September 2013 Retreat: Camp Mowana Class Days: Various locations for each class day
UID:e.1651.652
SEQUENCE:3
DTSTAMP:20260423T035318Z
URL:https://members.ashlandoh.com/events/details/la-2013-14-class-9-11-13-09-11-2013-652
END:VEVENT

END:VCALENDAR
