BEGIN:VCALENDAR
VERSION:2.0
PRODID:-//ChamberMaster//Event Calendar 2.0//EN
METHOD:PUBLISH
X-PUBLISHED-TTL:P3D
REFRESH-INTERVAL:P3D
CALSCALE:GREGORIAN
BEGIN:VEVENT
DTSTART:20160121T220000Z
DTEND:20160122T020000Z
X-MICROSOFT-CDO-ALLDAYEVENT:FALSE
SUMMARY:LA Alumni Event 1-21-16
DESCRIPTION:Leadership Ashland Alumni Fundraiser\n\nBenefiting: The Ashland Schine's Theatre Organization\n\n\n\nEvent Details:\n\nDate: Thursday\, January 21\, 2016\n\nTime: 5:00 - 9:00 pm\n\nCost: $15 pp\n\nPlace: Mitchell's Orchard and Farm Market\n\n1217 Twp Rd 1153\, Ashland\n\n\n\nCome and enjoy a great time of networking!\n\n\n\nCLICK HERE FOR AN EVENT AGENDA \n\n\n\nNEED TO UPDATE YOUR ALUMNI INFO? CLICK HERE!
X-ALT-DESC;FMTTYPE=text/html:<strong>Leadership Ashland Alumni Fundraiser</strong><br />\nBenefiting: The Ashland Schine&#39\;s Theatre Organization<br />\n<br />\n<u><strong>Event Details:</strong></u><br />\n<em><strong>Date: </strong></em>Thursday\, January 21\, 2016<br />\n<em><strong>Time:</strong></em> 5:00 - 9:00 pm<br />\n<em><strong>Cost:</strong></em> $15 pp<br />\n<em><strong>Place:</strong></em> Mitchell&#39\;s Orchard and Farm Market<br />\n1217 Twp Rd 1153\, Ashland<br />\n<br />\nCome and enjoy a great time of networking!<br />\n<br />\n<strong><a href="http://cloud.chambermaster.com/userfiles/UserFiles/chambers/1651/File/Leadership_Ashland/Alumni_Association/LAAlumniEventOutline012016.pdf" target="_blank"><span style="color:#0000CD\;">CLICK HERE FOR AN EVENT AGENDA</span></a> </strong><br />\n<br />\n<strong>NEED TO UPDATE YOUR ALUMNI INFO?</strong> <strong><a href="http://cloud.chambermaster.com/userfiles/UserFiles/chambers/1651/File/Leadership_Ashland/Alumni_Association/LAAlumniEventOutline012016.pdf" target="_blank"><span style="color:#006400\;">CLICK HERE!</span></a></strong>
LOCATION:
UID:e.1651.2501
SEQUENCE:3
DTSTAMP:20260421T035947Z
URL:https://members.ashlandoh.com/events/details/la-alumni-event-1-21-16-01-21-2016-2501
END:VEVENT

END:VCALENDAR
