BEGIN:VCALENDAR
VERSION:2.0
PRODID:-//ChamberMaster//Event Calendar 2.0//EN
METHOD:PUBLISH
X-PUBLISHED-TTL:P3D
REFRESH-INTERVAL:P3D
CALSCALE:GREGORIAN
BEGIN:VEVENT
DTSTART:20170126T220000Z
DTEND:20170127T010000Z
X-MICROSOFT-CDO-ALLDAYEVENT:FALSE
SUMMARY:LA Alumni Event 1-26-17
DESCRIPTION:Leadership Ashland Alumni Fundraiser\n\nBenefiting: The Ashland Fire Department (to assist with the purchase of smoke detectors for distribution to those in need)\n\n\n\nEvent Details:\n\nDate: Thursday\, January 26\, 2017\n\nTime: 5:00 - 8:00 pm\n\nWine Tasting and Best Pizza in Ashland County Contest\n\nCost: $20 pp - Pay at the door when you arrive\n\nPlace: Mitchell's Orchard and Farm Market\n\n1217 Twp Rd 1153\, Ashland\n\n\n\nCome and enjoy a great time of networking!
X-ALT-DESC;FMTTYPE=text/html:<strong>Leadership Ashland Alumni Fundraiser</strong><br />\nBenefiting: The Ashland Fire Department (to assist with the purchase of smoke detectors for distribution to those in need)<br />\n<br />\n<u><strong>Event Details:</strong></u><br />\n<em><strong>Date: </strong></em>Thursday\, January 26\, 2017<br />\n<em><strong>Time:</strong></em> 5:00 - 8:00 pm<br />\nWine Tasting and Best Pizza in Ashland County Contest<br />\n<em><strong>Cost:</strong></em> $20 pp - Pay at the door when you arrive<br />\n<em><strong>Place:</strong></em> Mitchell&#39\;s Orchard and Farm Market<br />\n1217 Twp Rd 1153\, Ashland<br />\n<br />\nCome and enjoy a great time of networking!
LOCATION:Mitchell's Orchard and Farm Market
UID:e.1651.4206
SEQUENCE:3
DTSTAMP:20260420T070902Z
URL:https://members.ashlandoh.com/events/details/la-alumni-event-1-26-17-4206
END:VEVENT

END:VCALENDAR
