BEGIN:VCALENDAR
VERSION:2.0
PRODID:-//ChamberMaster//Event Calendar 2.0//EN
METHOD:PUBLISH
X-PUBLISHED-TTL:P3D
REFRESH-INTERVAL:P3D
CALSCALE:GREGORIAN
BEGIN:VEVENT
DTSTART:20150909T160000Z
DTEND:20150909T170000Z
X-MICROSOFT-CDO-ALLDAYEVENT:FALSE
SUMMARY:LA Class 2016 Orientation - 9-9-15
DESCRIPTION:Greetings LA Class of 2016 participant!\n\nYou are being invited to attend a short orientation for the Leadership Ashland Program that you will be attending in September.\n\n	Get to know the LA Executive Director\n	Learn about the participant expectations\n	Become more familiar with the program\n	Meet some of your class mates
X-ALT-DESC;FMTTYPE=text/html:<span style="font-size:16px\;"><span style="color: rgb(0\, 0\, 205)\;"><strong>Greetings LA Class of 2016 participant!</strong></span></span><br />\nYou are being invited to attend a short orientation for the Leadership Ashland Program that you will be attending in September.\n<ul>\n	<li>Get to know the LA Executive Director</li>\n	<li>Learn about the participant expectations</li>\n	<li>Become more familiar with the program</li>\n	<li>Meet some of your class mates</li>\n</ul>\n
LOCATION:Ashland Area Chamber of Commerce 211 Claremont Ave.\, Ashland
UID:e.1651.2438
SEQUENCE:3
DTSTAMP:20260421T130006Z
URL:https://members.ashlandoh.com/events/details/la-class-2016-orientation-9-9-15-09-09-2015-2438
END:VEVENT

END:VCALENDAR
