BEGIN:VCALENDAR
VERSION:2.0
PRODID:-//ChamberMaster//Event Calendar 2.0//EN
METHOD:PUBLISH
X-PUBLISHED-TTL:P3D
REFRESH-INTERVAL:P3D
CALSCALE:GREGORIAN
BEGIN:VEVENT
DTSTART:20140611T220000Z
DTEND:20140611T233000Z
X-MICROSOFT-CDO-ALLDAYEVENT:FALSE
SUMMARY:LA Graduation 2014
DESCRIPTION:IT'S TIME FOR GRADUATION!\n\nCome and Celebrate with the Graduating Class of 2013-14.\n\n\n\nThe Leadership Ashland Program identifies emerging and existing community leaders and strives to acquaint them with issues that are central to Ashland County and to increase their understanding of how decisions are made in the community.\n\nFounded in 1990\, Leadership Ashland has over 350 graduates with a strong Alumni Association that offers a variety of unique networking opportunities. This program may be for you!\n\n\nFor more about this exciting Leadership Program CLICK HERE.
X-ALT-DESC;FMTTYPE=text/html:<br />\n<span style="font-size:16px\;"><span style="color: rgb(0\, 0\, 128)\;"><span style="font-family: verdana\;"><strong>IT&#39\;S TIME FOR GRADUATION!</strong></span></span></span>\n\n<div style="text-align: justify\;"><span style="font-size:14px\;">Come and Celebrate with the Graduating Class of 2013-14.</span><br />\n<br />\n<span style="color: #000099\;">The Leadership Ashland Program identifies emerging and existing community leaders and strives to acquaint them with issues that are central to Ashland County and to increase their understanding of how decisions are made in the community.<br />\nFounded in 1990\, Leadership Ashland has over 350 graduates with a strong Alumni Association that offers a variety of unique networking opportunities. This program may be for you!</span></div>\n<br />\n<em>For more about this exciting Leadership Program</em> <strong><a href="http://www.ashlandoh.com/about-us/leadership-ashland/leadership-ashland" target="_blank"><span style="color:#0000CD\;">CLICK HERE</span></a></strong><span style="color:#0000CD\;">.</span><br />\n&nbsp\;
LOCATION:Pump House Restaurant & Grille 400 Orange St.\, Ashland\, OH 44805
UID:e.1651.1394
SEQUENCE:3
DTSTAMP:20260422T122148Z
URL:https://members.ashlandoh.com/events/details/la-graduation-2014-06-11-2014-1394
END:VEVENT

END:VCALENDAR
