BEGIN:VCALENDAR
VERSION:2.0
PRODID:-//ChamberMaster//Event Calendar 2.0//EN
METHOD:PUBLISH
X-PUBLISHED-TTL:P3D
REFRESH-INTERVAL:P3D
CALSCALE:GREGORIAN
BEGIN:VEVENT
DTSTART:20150611T200000Z
DTEND:20150611T220000Z
X-MICROSOFT-CDO-ALLDAYEVENT:FALSE
SUMMARY:LA Reception and Graduation 6-11-15
DESCRIPTION:LEADERSHIP ASHLAND\n\nCongratulations to the Class of 2015!\n\nCome and join us for a graduation celebration.\n\nThe Leadership Ashland Executive Director and Steering Committee invite you to a dessert reception and graduation ceremony for this fantastic class.
X-ALT-DESC;FMTTYPE=text/html:<strong><span style="color:#0000CD\;"><span style="font-size: 16px\;">LEADERSHIP ASHLAND</span></span><br />\nCongratulations to the Class of 2015!</strong><br />\nCome and join us for a graduation celebration.<br />\n<em>The Leadership Ashland Executive Director and Steering Committee invite you to a dessert reception and graduation ceremony for this fantastic class.</em>
LOCATION:Pump House Ministries 400 Orange St.\, Ashland\, OH 44805
UID:e.1651.1536
SEQUENCE:3
DTSTAMP:20260421T163152Z
URL:https://members.ashlandoh.com/events/details/la-reception-and-graduation-6-11-15-06-11-2015-1536
END:VEVENT

END:VCALENDAR
