BEGIN:VCALENDAR
VERSION:2.0
PRODID:-//ChamberMaster//Event Calendar 2.0//EN
METHOD:PUBLISH
X-PUBLISHED-TTL:P3D
REFRESH-INTERVAL:P3D
CALSCALE:GREGORIAN
BEGIN:VEVENT
DTSTART:20150916T120000Z
DTEND:20150916T210000Z
X-MICROSOFT-CDO-ALLDAYEVENT:FALSE
SUMMARY:LA - September 2015 Retreat
DESCRIPTION:RETREAT AGENDA\n\nClick here to see the agenda for Wednesday's Class\n\n\n\nGreetings\, Class of 2015-16 Participants and Sponsors!\n\nWe are looking forward to this year's class with great anticipation.\n\nFrom September 2015 through June 2016\, we will take part in a one day retreat\, eight monthly workday sessions\, a bus tour of Ashland County and a graduation program.\n\n\nThe Leadership Ashland Class is designed to:\n\n\n	Identify existing and emerging community leaders\n	Acquaint participants with community needs and issues\n	Broaden participant's understanding of the political\, economic\, business\, and social fabric of Ashland County.\n	Prepare participants to take a more active leadership role within the community and within their sponsoring organizations.\n\n\nThe Leadership Ashland experience offers the participant an opportunity to develop the knowledge and skills necessary to assume a vital role in our community. Participants widen their circle of friendships and become acquainted with numerous community leaders. Sponsoring organizations are rewarded with an involved and motivated employee. The biggest winner? The Ashland County community!\n\n\nThanks for making the choice to become involved in this outstanding Leadership Program.\n\nIf you have questions about the program\, schedule or fees\, please contact us at:\n\nLeadership Ashland\n\nc/o Ashland Area Chamber of Commerce\n\n211 Claremont Ave.\, Ashland\, OH 44805\n\n419-281-4584 ext 105\n\nor leadershipashland@ashlandoh.com
X-ALT-DESC;FMTTYPE=text/html:<div class="mn-event-content">\n<div class="mn-raw mn-print-url" itemprop="description"><span style="font-size:14px\;"><span style="color: rgb(0\, 0\, 205)\;"><strong>RETREAT AGENDA</strong></span><br />\n<strong><a href="http://cloud.chambermaster.com/userfiles/UserFiles/chambers/1651/File/Leadership_Ashland/LA2015-16ClassRetreatAgenda.pdf" target="_blank"><span style="color:#000080\;"><span style="background-color: rgb(255\, 255\, 0)\;">Click here </span></span></a></strong>to see the agenda for Wednesday&#39\;s Class<br />\n<br />\n<span style="color: rgb(0\, 0\, 205)\;"><strong>Greetings\, Class of 2015-16 Participants and Sponsors!</strong></span></span>\n\n<div style="text-align: justify\;"><em>We are looking forward to this year&#39\;s class with great anticipation.<br />\nFrom September 2015 through June 2016\, we will take part in a one day retreat\, eight monthly workday sessions\, a bus tour of Ashland County and a graduation program.</em></div>\n<br />\n<u><strong>The Leadership Ashland Class is designed to:</strong></u>\n\n<ul>\n	<li>Identify existing and emerging community leaders</li>\n	<li>Acquaint participants with community needs and issues</li>\n	<li>Broaden participant&#39\;s understanding of the political\, economic\, business\, and social fabric of Ashland County.</li>\n	<li>Prepare participants to take a more active leadership role within the community and within their sponsoring organizations.</li>\n</ul>\n\n<div style="text-align: justify\;"><em>The Leadership Ashland experience offers the participant an opportunity to develop the knowledge and skills necessary to assume a vital role in our community. Participants widen their circle of friendships and become acquainted with numerous community leaders. Sponsoring organizations are rewarded with an involved and motivated employee. The biggest winner? The Ashland County community!</em></div>\n<br />\n<strong>Thanks for making the choice to become involved in this outstanding Leadership Program.</strong><br />\nIf you have questions about the program\, schedule or fees\, please contact us at:<br />\n<span style="color:#0000cd\;"><span style="font-size: 14px\;"><strong>Leadership Ashland</strong></span></span><br />\nc/o Ashland Area Chamber of Commerce<br />\n211 Claremont Ave.\, Ashland\, OH 44805<br />\n419-281-4584 ext 105<br />\nor <a href="mailto:leadershipashland@ashlandoh.com?subject=Leadership%20Ashland%20Class%20of%202014&amp\;body=I%20have%20a%20question%20about%3A" target="_blank">leadershipashland@ashlandoh.com</a></div>\n</div>\n
LOCATION:September Retreat: Camp Mowana 2276 Fleming Falls Rd. Mansfield\, OH 44903
UID:e.1651.2167
SEQUENCE:3
DTSTAMP:20260421T111721Z
URL:https://members.ashlandoh.com/events/details/la-september-2015-retreat-09-16-2015-2167
END:VEVENT

END:VCALENDAR
