BEGIN:VCALENDAR
VERSION:2.0
PRODID:-//ChamberMaster//Event Calendar 2.0//EN
METHOD:PUBLISH
X-PUBLISHED-TTL:P3D
REFRESH-INTERVAL:P3D
CALSCALE:GREGORIAN
BEGIN:VEVENT
DTSTART:20120509T203000Z
DTEND:20120509T220000Z
X-MICROSOFT-CDO-ALLDAYEVENT:FALSE
SUMMARY:Leadership Ashland Alumni Wine Tasting 2012
DESCRIPTION:
X-ALT-DESC;FMTTYPE=text/html:
LOCATION:Mitchell's Orchard & Farm Market
UID:e.1651.205
SEQUENCE:3
DTSTAMP:20260424T070512Z
URL:https://members.ashlandoh.com/events/details/leadership-ashland-alumni-wine-tasting-2012-05-09-2012-205
END:VEVENT

END:VCALENDAR
