BEGIN:VCALENDAR
VERSION:2.0
PRODID:-//ChamberMaster//Event Calendar 2.0//EN
METHOD:PUBLISH
X-PUBLISHED-TTL:P3D
REFRESH-INTERVAL:P3D
CALSCALE:GREGORIAN
BEGIN:VEVENT
DTSTART:20150108T130000Z
DTEND:20150108T220000Z
X-MICROSOFT-CDO-ALLDAYEVENT:FALSE
SUMMARY:Leadership Ashland Class 1-8-15
DESCRIPTION:TOPIC/DISCUSSION:\n\n\n	Kouzes & Posner: The Leadership Challenge\n	Interest Area - Team Presentation
X-ALT-DESC;FMTTYPE=text/html:<strong>TOPIC/DISCUSSION:</strong>\n\n<ul>\n	<li>Kouzes &amp\; Posner: The Leadership Challenge</li>\n	<li>Interest Area - Team Presentation</li>\n</ul>\n
LOCATION:TBD
UID:e.1651.1527
SEQUENCE:3
DTSTAMP:20260422T011620Z
URL:https://members.ashlandoh.com/events/details/leadership-ashland-class-1-8-15-01-08-2015-1527
END:VEVENT

END:VCALENDAR
