BEGIN:VCALENDAR
VERSION:2.0
PRODID:-//ChamberMaster//Event Calendar 2.0//EN
METHOD:PUBLISH
X-PUBLISHED-TTL:P3D
REFRESH-INTERVAL:P3D
CALSCALE:GREGORIAN
BEGIN:VEVENT
DTSTART:20141113T130000Z
DTEND:20141113T220000Z
X-MICROSOFT-CDO-ALLDAYEVENT:FALSE
SUMMARY:Leadership Ashland Class 11-13-14
DESCRIPTION:TOPICS/DISCUSSION:\n\nKouzes & Posner: The Leadership Challenge - Introduction to Finding Your Voice\n\nSPECIAL: Effective Boardmanship Training
X-ALT-DESC;FMTTYPE=text/html:<strong>TOPICS/DISCUSSION:</strong><br />\nKouzes &amp\; Posner: The Leadership Challenge - Introduction to Finding Your Voice<br />\nSPECIAL: Effective Boardmanship Training
LOCATION:Ashland YMCA 207 Miller St.\, Ashland
UID:e.1651.1525
SEQUENCE:3
DTSTAMP:20260422T044354Z
URL:https://members.ashlandoh.com/events/details/leadership-ashland-class-11-13-14-11-13-2014-1525
END:VEVENT

END:VCALENDAR
