BEGIN:VCALENDAR
VERSION:2.0
PRODID:-//ChamberMaster//Event Calendar 2.0//EN
METHOD:PUBLISH
X-PUBLISHED-TTL:P3D
REFRESH-INTERVAL:P3D
CALSCALE:GREGORIAN
BEGIN:VEVENT
DTSTART:20141211T130000Z
DTEND:20141211T220000Z
X-MICROSOFT-CDO-ALLDAYEVENT:FALSE
SUMMARY:Leadership Ashland Class 12-11-14
DESCRIPTION:CLASS TOPICS/DISCUSSION:\n\n\n	Kouzes & Posner: The Leadership Challenge\n	Interest Area - Team Presentation
X-ALT-DESC;FMTTYPE=text/html:<strong>CLASS TOPICS/DISCUSSION:</strong>\n\n<ul>\n	<li>Kouzes &amp\; Posner: The Leadership Challenge</li>\n	<li>Interest Area - Team Presentation</li>\n</ul>\n
LOCATION:TBD
UID:e.1651.1526
SEQUENCE:3
DTSTAMP:20260422T043811Z
URL:https://members.ashlandoh.com/events/details/leadership-ashland-class-12-11-14-12-11-2014-1526
END:VEVENT

END:VCALENDAR
