BEGIN:VCALENDAR
VERSION:2.0
PRODID:-//ChamberMaster//Event Calendar 2.0//EN
METHOD:PUBLISH
X-PUBLISHED-TTL:P3D
REFRESH-INTERVAL:P3D
CALSCALE:GREGORIAN
BEGIN:VEVENT
DTSTART:20120901T120000Z
DTEND:20120901T123000Z
X-MICROSOFT-CDO-ALLDAYEVENT:FALSE
SUMMARY:Leadership Ashland Class 2013 - Tuition
DESCRIPTION:
X-ALT-DESC;FMTTYPE=text/html:
LOCATION:Leadership Ashland
UID:e.1651.217
SEQUENCE:3
DTSTAMP:20260423T235204Z
URL:https://members.ashlandoh.com/events/details/leadership-ashland-class-2013-tuition-09-01-2012-217
END:VEVENT

END:VCALENDAR
