BEGIN:VCALENDAR
VERSION:2.0
PRODID:-//ChamberMaster//Event Calendar 2.0//EN
METHOD:PUBLISH
X-PUBLISHED-TTL:P3D
REFRESH-INTERVAL:P3D
CALSCALE:GREGORIAN
BEGIN:VEVENT
DTSTART:20150312T120000Z
DTEND:20150312T163000Z
X-MICROSOFT-CDO-ALLDAYEVENT:FALSE
SUMMARY:Leadership Ashland Class 3-12-14
DESCRIPTION:TOPIC/DISCUSSION:\n\n	Kouzes & Posner: The Leadership Challenge\n	Interest Area - Team Presentation
X-ALT-DESC;FMTTYPE=text/html:TOPIC/DISCUSSION:\n<ul>\n	<li>Kouzes &amp\; Posner: The Leadership Challenge</li>\n	<li>Interest Area - Team Presentation</li>\n</ul>\n
LOCATION:TBD
UID:e.1651.1529
SEQUENCE:3
DTSTAMP:20260421T214713Z
URL:https://members.ashlandoh.com/events/details/leadership-ashland-class-3-12-14-03-12-2015-1529
END:VEVENT

END:VCALENDAR
